BEGIN:VCALENDAR
VERSION:2.0
PRODID:-//Circuit Powerboat Association - ECPv6.9.0//NONSGML v1.0//EN
CALSCALE:GREGORIAN
METHOD:PUBLISH
X-WR-CALNAME:Circuit Powerboat Association
X-ORIGINAL-URL:https://ukcircuitracing.com
X-WR-CALDESC:Events for Circuit Powerboat Association
REFRESH-INTERVAL;VALUE=DURATION:PT1H
X-Robots-Tag:noindex
X-PUBLISHED-TTL:PT1H
BEGIN:VTIMEZONE
TZID:UTC
BEGIN:STANDARD
TZOFFSETFROM:+0000
TZOFFSETTO:+0000
TZNAME:UTC
DTSTART:20250101T000000
END:STANDARD
END:VTIMEZONE
BEGIN:VEVENT
DTSTART;VALUE=DATE:20251106
DTEND;VALUE=DATE:20251107
DTSTAMP:20260420T004512
CREATED:20250121T100110Z
LAST-MODIFIED:20250121T100110Z
UID:1314-1762387200-1762473599@ukcircuitracing.com
SUMMARY:Coniston Records Week
DESCRIPTION:
URL:https://ukcircuitracing.com/events/coniston-records-week-6/
LOCATION:Coniston Water\, 12 Lake Road\, Coniston\, LA21 8AN\, United Kingdom
CATEGORIES:Records Week
END:VEVENT
END:VCALENDAR