BEGIN:VCALENDAR
VERSION:2.0
PRODID:-//Circuit Powerboat Association - ECPv6.9.0//NONSGML v1.0//EN
CALSCALE:GREGORIAN
METHOD:PUBLISH
X-ORIGINAL-URL:https://ukcircuitracing.com
X-WR-CALDESC:Events for Circuit Powerboat Association
REFRESH-INTERVAL;VALUE=DURATION:PT1H
X-Robots-Tag:noindex
X-PUBLISHED-TTL:PT1H
BEGIN:VTIMEZONE
TZID:UTC
BEGIN:STANDARD
TZOFFSETFROM:+0000
TZOFFSETTO:+0000
TZNAME:UTC
DTSTART:20250101T000000
END:STANDARD
END:VTIMEZONE
BEGIN:VEVENT
DTSTART;TZID=UTC:20250914T120000
DTEND;TZID=UTC:20250914T180000
DTSTAMP:20260421T012309
CREATED:20250121T100040Z
LAST-MODIFIED:20250121T100421Z
UID:1304-1757851200-1757872800@ukcircuitracing.com
SUMMARY:Battle of Britain (North Bay Course) - Oulton Broad
DESCRIPTION:
URL:https://ukcircuitracing.com/events/battle-of-britain-north-bay-course-oulton-broad-2/
LOCATION:Lowestoft & Oulton Broad Motor Boat Racing Club\, The Clubhouse\, Oulton Broad\, NR33 9JR\, United Kingdom
CATEGORIES:Club Race
END:VEVENT
END:VCALENDAR