BEGIN:VCALENDAR
VERSION:2.0
PRODID:-//Circuit Powerboat Association - ECPv6.9.0//NONSGML v1.0//EN
CALSCALE:GREGORIAN
METHOD:PUBLISH
X-WR-CALNAME:Circuit Powerboat Association
X-ORIGINAL-URL:https://ukcircuitracing.com
X-WR-CALDESC:Events for Circuit Powerboat Association
REFRESH-INTERVAL;VALUE=DURATION:PT1H
X-Robots-Tag:noindex
X-PUBLISHED-TTL:PT1H
BEGIN:VTIMEZONE
TZID:UTC
BEGIN:STANDARD
TZOFFSETFROM:+0000
TZOFFSETTO:+0000
TZNAME:UTC
DTSTART:20250101T000000
END:STANDARD
END:VTIMEZONE
BEGIN:VEVENT
DTSTART;VALUE=DATE:20250927
DTEND;VALUE=DATE:20250928
DTSTAMP:20260421T012228
CREATED:20250121T100041Z
LAST-MODIFIED:20250121T100041Z
UID:1305-1758931200-1759017599@ukcircuitracing.com
SUMMARY:Commodores Club Race - Windermere
DESCRIPTION:
URL:https://ukcircuitracing.com/events/commodores-club-race-windermere-3/
LOCATION:Windermere Motor Boat Racing Club\, Broad Leys Lodge\, Windermere\, LA23 3LJ\, United Kingdom
CATEGORIES:Club Race
END:VEVENT
END:VCALENDAR