BEGIN:VCALENDAR
VERSION:2.0
PRODID:-//Circuit Powerboat Association - ECPv6.9.0//NONSGML v1.0//EN
CALSCALE:GREGORIAN
METHOD:PUBLISH
X-ORIGINAL-URL:https://ukcircuitracing.com
X-WR-CALDESC:Events for Circuit Powerboat Association
REFRESH-INTERVAL;VALUE=DURATION:PT1H
X-Robots-Tag:noindex
X-PUBLISHED-TTL:PT1H
BEGIN:VTIMEZONE
TZID:UTC
BEGIN:STANDARD
TZOFFSETFROM:+0000
TZOFFSETTO:+0000
TZNAME:UTC
DTSTART:20250101T000000
END:STANDARD
END:VTIMEZONE
BEGIN:VEVENT
DTSTART;VALUE=DATE:20250928
DTEND;VALUE=DATE:20250929
DTSTAMP:20260420T072311
CREATED:20250121T100041Z
LAST-MODIFIED:20250121T100041Z
UID:1307-1759017600-1759103999@ukcircuitracing.com
SUMMARY:2025 CPA British Championship Round 3 - Stewartby
DESCRIPTION:
URL:https://ukcircuitracing.com/events/2025-cpa-british-championship-round-3-stewartby-2/
LOCATION:Stewartby Watersports Club\, The Clubhouse\, Green Lane\, Bedford\, MK43 9LY\, United Kingdom
CATEGORIES:CPA British Championship
END:VEVENT
END:VCALENDAR