BEGIN:VCALENDAR
VERSION:2.0
PRODID:-//Circuit Powerboat Association - ECPv6.9.0//NONSGML v1.0//EN
CALSCALE:GREGORIAN
METHOD:PUBLISH
X-ORIGINAL-URL:https://ukcircuitracing.com
X-WR-CALDESC:Events for Circuit Powerboat Association
REFRESH-INTERVAL;VALUE=DURATION:PT1H
X-Robots-Tag:noindex
X-PUBLISHED-TTL:PT1H
BEGIN:VTIMEZONE
TZID:UTC
BEGIN:STANDARD
TZOFFSETFROM:+0000
TZOFFSETTO:+0000
TZNAME:UTC
DTSTART:20250101T000000
END:STANDARD
END:VTIMEZONE
BEGIN:VEVENT
DTSTART;TZID=UTC:20250208T150000
DTEND;TZID=UTC:20250208T180000
DTSTAMP:20260422T112651
CREATED:20250121T095801Z
LAST-MODIFIED:20250121T095801Z
UID:1254-1739026800-1739037600@ukcircuitracing.com
SUMMARY:Dunk Tests - Chase Terrace
DESCRIPTION:
URL:https://ukcircuitracing.com/events/dunk-tests-chase-terrace-5/
LOCATION:Chase Terrace Academy\, Bridge Cross Road\, Burntwood\, WS7 2DB\, United Kingdom
CATEGORIES:Dunk Tests
END:VEVENT
BEGIN:VEVENT
DTSTART;TZID=UTC:20250222T150000
DTEND;TZID=UTC:20250222T180000
DTSTAMP:20260422T112651
CREATED:20250121T095802Z
LAST-MODIFIED:20250121T095802Z
UID:1255-1740236400-1740247200@ukcircuitracing.com
SUMMARY:Dunk Tests - Chase Terrace
DESCRIPTION:
URL:https://ukcircuitracing.com/events/dunk-tests-chase-terrace-6/
LOCATION:Chase Terrace Academy\, Bridge Cross Road\, Burntwood\, WS7 2DB\, United Kingdom
CATEGORIES:Dunk Tests
END:VEVENT
END:VCALENDAR