BEGIN:VCALENDAR
VERSION:2.0
PRODID:-//Circuit Powerboat Association - ECPv6.9.0//NONSGML v1.0//EN
CALSCALE:GREGORIAN
METHOD:PUBLISH
X-WR-CALNAME:Circuit Powerboat Association
X-ORIGINAL-URL:https://ukcircuitracing.com
X-WR-CALDESC:Events for Circuit Powerboat Association
REFRESH-INTERVAL;VALUE=DURATION:PT1H
X-Robots-Tag:noindex
X-PUBLISHED-TTL:PT1H
BEGIN:VTIMEZONE
TZID:UTC
BEGIN:STANDARD
TZOFFSETFROM:+0000
TZOFFSETTO:+0000
TZNAME:UTC
DTSTART:20240101T000000
END:STANDARD
END:VTIMEZONE
BEGIN:VEVENT
DTSTART;TZID=UTC:20240210T150000
DTEND;TZID=UTC:20240210T173000
DTSTAMP:20260423T062822
CREATED:20240110T152108Z
LAST-MODIFIED:20240129T103039Z
UID:851-1707577200-1707586200@ukcircuitracing.com
SUMMARY:Dunk Tests - Chase Terrace
DESCRIPTION:Please click the link below to book in your 2024 Immersion Test and Microdive: \nImmersion Test Booking in form 2024 \n  \nVenue Details: \nChase Terrace Academy \nBridge Cross Road \nBurntwood \nWS7 2DB
URL:https://ukcircuitracing.com/events/dunk-tests-chase-terrace/
LOCATION:Chase Terrace Academy\, Bridge Cross Road\, Burntwood\, WS7 2DB\, United Kingdom
CATEGORIES:Dunk Tests
END:VEVENT
END:VCALENDAR