BEGIN:VCALENDAR
VERSION:2.0
PRODID:-//Circuit Powerboat Association - ECPv6.9.0//NONSGML v1.0//EN
CALSCALE:GREGORIAN
METHOD:PUBLISH
X-ORIGINAL-URL:https://ukcircuitracing.com
X-WR-CALDESC:Events for Circuit Powerboat Association
REFRESH-INTERVAL;VALUE=DURATION:PT1H
X-Robots-Tag:noindex
X-PUBLISHED-TTL:PT1H
BEGIN:VTIMEZONE
TZID:UTC
BEGIN:STANDARD
TZOFFSETFROM:+0000
TZOFFSETTO:+0000
TZNAME:UTC
DTSTART:20240101T000000
END:STANDARD
END:VTIMEZONE
BEGIN:VEVENT
DTSTART;TZID=UTC:20240224T170000
DTEND;TZID=UTC:20240224T200000
DTSTAMP:20260423T063038
CREATED:20240110T152108Z
LAST-MODIFIED:20240129T102903Z
UID:852-1708794000-1708804800@ukcircuitracing.com
SUMMARY:Dunk Tests - Phoenix Leisure Centre
DESCRIPTION:Please click the link below to book in your 2024 Immersion Test and Microdive: \nImmersion Test Booking in form 2024 \n  \nVenue Details: \nPhoenix Leisure Centre \nWidgeon Close \nBradwell \nGreat Yarmouth \nNR31 8JU
URL:https://ukcircuitracing.com/events/dunk-tests-lowesotft-tbc-3/
LOCATION:Phoenix Leisure Centre\, Widgeon Close\, Great Yarmouth\, NR31 8JU\, United Kingdom
CATEGORIES:Dunk Tests
END:VEVENT
END:VCALENDAR