BEGIN:VCALENDAR
VERSION:2.0
PRODID:-//Circuit Powerboat Association - ECPv6.9.0//NONSGML v1.0//EN
CALSCALE:GREGORIAN
METHOD:PUBLISH
X-ORIGINAL-URL:https://ukcircuitracing.com
X-WR-CALDESC:Events for Circuit Powerboat Association
REFRESH-INTERVAL;VALUE=DURATION:PT1H
X-Robots-Tag:noindex
X-PUBLISHED-TTL:PT1H
BEGIN:VTIMEZONE
TZID:UTC
BEGIN:STANDARD
TZOFFSETFROM:+0000
TZOFFSETTO:+0000
TZNAME:UTC
DTSTART:20260101T000000
END:STANDARD
END:VTIMEZONE
BEGIN:VEVENT
DTSTART;VALUE=DATE:20260307
DTEND;VALUE=DATE:20260308
DTSTAMP:20260419T190054
CREATED:20260305T093102Z
LAST-MODIFIED:20260305T093102Z
UID:1674-1772841600-1772927999@ukcircuitracing.com
SUMMARY:Dunk Tests - Midlands
DESCRIPTION:
URL:https://ukcircuitracing.com/events/dunk-tests-midlands-2/
LOCATION:Penkridge Leisure Centre\, Cannock Road\, Penkridge\, ST19 5RX\, United Kingdom
CATEGORIES:Dunk Tests
END:VEVENT
END:VCALENDAR