BEGIN:VCALENDAR
VERSION:2.0
PRODID:-//Circuit Powerboat Association - ECPv6.9.0//NONSGML v1.0//EN
CALSCALE:GREGORIAN
METHOD:PUBLISH
X-ORIGINAL-URL:https://ukcircuitracing.com
X-WR-CALDESC:Events for Circuit Powerboat Association
REFRESH-INTERVAL;VALUE=DURATION:PT1H
X-Robots-Tag:noindex
X-PUBLISHED-TTL:PT1H
BEGIN:VTIMEZONE
TZID:UTC
BEGIN:STANDARD
TZOFFSETFROM:+0000
TZOFFSETTO:+0000
TZNAME:UTC
DTSTART:20240101T000000
END:STANDARD
END:VTIMEZONE
BEGIN:VEVENT
DTSTART;TZID=UTC:20240323T130000
DTEND;TZID=UTC:20240323T170000
DTSTAMP:20260422T200256
CREATED:20240131T121355Z
LAST-MODIFIED:20240131T121355Z
UID:1073-1711198800-1711213200@ukcircuitracing.com
SUMMARY:Training Day - Carr Mill
DESCRIPTION:
URL:https://ukcircuitracing.com/events/training-day-carr-mill/
LOCATION:Lancashire Powerboat Racing Club\, Carr Mill Dam\, Garswood Old Road\, St Helens\, WA11 7LZ\, United Kingdom
CATEGORIES:Test Session
END:VEVENT
BEGIN:VEVENT
DTSTART;VALUE=DATE:20240330
DTEND;VALUE=DATE:20240331
DTSTAMP:20260422T200256
CREATED:20240110T152108Z
LAST-MODIFIED:20240110T152108Z
UID:854-1711756800-1711843199@ukcircuitracing.com
SUMMARY:Test Session - Stewartby
DESCRIPTION:
URL:https://ukcircuitracing.com/events/test-session-stewartby-2/
LOCATION:Stewartby Watersports Club\, The Clubhouse\, Green Lane\, Bedford\, MK43 9LY\, United Kingdom
CATEGORIES:Test Session
END:VEVENT
BEGIN:VEVENT
DTSTART;VALUE=DATE:20240331
DTEND;VALUE=DATE:20240401
DTSTAMP:20260422T200256
CREATED:20240110T152108Z
LAST-MODIFIED:20240110T152108Z
UID:855-1711843200-1711929599@ukcircuitracing.com
SUMMARY:Test Session - Stewartby
DESCRIPTION:
URL:https://ukcircuitracing.com/events/test-session-stewartby-3/
LOCATION:Stewartby Watersports Club\, The Clubhouse\, Green Lane\, Bedford\, MK43 9LY\, United Kingdom
CATEGORIES:Test Session
END:VEVENT
END:VCALENDAR