BEGIN:VCALENDAR
VERSION:2.0
PRODID:-//Circuit Powerboat Association - ECPv6.9.0//NONSGML v1.0//EN
CALSCALE:GREGORIAN
METHOD:PUBLISH
X-WR-CALNAME:Circuit Powerboat Association
X-ORIGINAL-URL:https://ukcircuitracing.com
X-WR-CALDESC:Events for Circuit Powerboat Association
REFRESH-INTERVAL;VALUE=DURATION:PT1H
X-Robots-Tag:noindex
X-PUBLISHED-TTL:PT1H
BEGIN:VTIMEZONE
TZID:UTC
BEGIN:STANDARD
TZOFFSETFROM:+0000
TZOFFSETTO:+0000
TZNAME:UTC
DTSTART:20250101T000000
END:STANDARD
END:VTIMEZONE
BEGIN:VEVENT
DTSTART;VALUE=DATE:20250322
DTEND;VALUE=DATE:20250323
DTSTAMP:20260422T025332
CREATED:20250121T095804Z
LAST-MODIFIED:20250121T095804Z
UID:1259-1742601600-1742687999@ukcircuitracing.com
SUMMARY:Test & Training Day - Carr Mill
DESCRIPTION:
URL:https://ukcircuitracing.com/events/test-training-day-carr-mill-8/
LOCATION:Lancashire Powerboat Racing Club\, Carr Mill Dam\, Garswood Old Road\, St Helens\, WA11 7LZ\, United Kingdom
CATEGORIES:Test Session
END:VEVENT
BEGIN:VEVENT
DTSTART;VALUE=DATE:20250323
DTEND;VALUE=DATE:20250324
DTSTAMP:20260422T025332
CREATED:20250121T095805Z
LAST-MODIFIED:20250121T095805Z
UID:1260-1742688000-1742774399@ukcircuitracing.com
SUMMARY:Test & Training Day - Carr Mill
DESCRIPTION:
URL:https://ukcircuitracing.com/events/test-training-day-carr-mill-9/
LOCATION:Lancashire Powerboat Racing Club\, Carr Mill Dam\, Garswood Old Road\, St Helens\, WA11 7LZ\, United Kingdom
CATEGORIES:Test Session
END:VEVENT
BEGIN:VEVENT
DTSTART;VALUE=DATE:20250329
DTEND;VALUE=DATE:20250330
DTSTAMP:20260422T025332
CREATED:20250121T095805Z
LAST-MODIFIED:20250121T095805Z
UID:1261-1743206400-1743292799@ukcircuitracing.com
SUMMARY:Test Session - Stewartby
DESCRIPTION:
URL:https://ukcircuitracing.com/events/test-session-stewartby-20/
LOCATION:Stewartby Watersports Club\, The Clubhouse\, Green Lane\, Bedford\, MK43 9LY\, United Kingdom
CATEGORIES:Test Session
END:VEVENT
BEGIN:VEVENT
DTSTART;VALUE=DATE:20250330
DTEND;VALUE=DATE:20250331
DTSTAMP:20260422T025332
CREATED:20250121T095805Z
LAST-MODIFIED:20250121T095805Z
UID:1262-1743292800-1743379199@ukcircuitracing.com
SUMMARY:Test Session - Stewartby
DESCRIPTION:
URL:https://ukcircuitracing.com/events/test-session-stewartby-21/
LOCATION:Stewartby Watersports Club\, The Clubhouse\, Green Lane\, Bedford\, MK43 9LY\, United Kingdom
CATEGORIES:Test Session
END:VEVENT
END:VCALENDAR