BEGIN:VCALENDAR
VERSION:2.0
PRODID:-//Circuit Powerboat Association - ECPv6.9.0//NONSGML v1.0//EN
CALSCALE:GREGORIAN
METHOD:PUBLISH
X-WR-CALNAME:Circuit Powerboat Association
X-ORIGINAL-URL:https://ukcircuitracing.com
X-WR-CALDESC:Events for Circuit Powerboat Association
REFRESH-INTERVAL;VALUE=DURATION:PT1H
X-Robots-Tag:noindex
X-PUBLISHED-TTL:PT1H
BEGIN:VTIMEZONE
TZID:UTC
BEGIN:STANDARD
TZOFFSETFROM:+0000
TZOFFSETTO:+0000
TZNAME:UTC
DTSTART:20250101T000000
END:STANDARD
END:VTIMEZONE
BEGIN:VEVENT
DTSTART;VALUE=DATE:20251019
DTEND;VALUE=DATE:20251020
DTSTAMP:20260420T075821
CREATED:20250121T100056Z
LAST-MODIFIED:20250121T100056Z
UID:1310-1760832000-1760918399@ukcircuitracing.com
SUMMARY:Test Session - Stewartby
DESCRIPTION:
URL:https://ukcircuitracing.com/events/test-session-stewartby-29/
LOCATION:Stewartby Watersports Club\, The Clubhouse\, Green Lane\, Bedford\, MK43 9LY\, United Kingdom
CATEGORIES:Test Session
END:VEVENT
BEGIN:VEVENT
DTSTART;VALUE=DATE:20251018
DTEND;VALUE=DATE:20251019
DTSTAMP:20260420T075821
CREATED:20250121T100055Z
LAST-MODIFIED:20250121T100055Z
UID:1308-1760745600-1760831999@ukcircuitracing.com
SUMMARY:Test Session - Stewartby
DESCRIPTION:
URL:https://ukcircuitracing.com/events/test-session-stewartby-28/
LOCATION:Stewartby Watersports Club\, The Clubhouse\, Green Lane\, Bedford\, MK43 9LY\, United Kingdom
CATEGORIES:Test Session
END:VEVENT
BEGIN:VEVENT
DTSTART;VALUE=DATE:20251011
DTEND;VALUE=DATE:20251012
DTSTAMP:20260420T075821
CREATED:20250121T100056Z
LAST-MODIFIED:20250121T100056Z
UID:1309-1760140800-1760227199@ukcircuitracing.com
SUMMARY:Club Race - Carr Mill
DESCRIPTION:
URL:https://ukcircuitracing.com/events/club-race-carr-mill-13/
LOCATION:Lancashire Powerboat Racing Club\, Carr Mill Dam\, Garswood Old Road\, St Helens\, WA11 7LZ\, United Kingdom
CATEGORIES:Club Race
END:VEVENT
BEGIN:VEVENT
DTSTART;VALUE=DATE:20250928
DTEND;VALUE=DATE:20250929
DTSTAMP:20260420T075821
CREATED:20250121T100041Z
LAST-MODIFIED:20250121T100041Z
UID:1307-1759017600-1759103999@ukcircuitracing.com
SUMMARY:2025 CPA British Championship Round 3 - Stewartby
DESCRIPTION:
URL:https://ukcircuitracing.com/events/2025-cpa-british-championship-round-3-stewartby-2/
LOCATION:Stewartby Watersports Club\, The Clubhouse\, Green Lane\, Bedford\, MK43 9LY\, United Kingdom
CATEGORIES:CPA British Championship
END:VEVENT
BEGIN:VEVENT
DTSTART;VALUE=DATE:20250927
DTEND;VALUE=DATE:20250928
DTSTAMP:20260420T075821
CREATED:20250121T100041Z
LAST-MODIFIED:20250121T100041Z
UID:1305-1758931200-1759017599@ukcircuitracing.com
SUMMARY:Commodores Club Race - Windermere
DESCRIPTION:
URL:https://ukcircuitracing.com/events/commodores-club-race-windermere-3/
LOCATION:Windermere Motor Boat Racing Club\, Broad Leys Lodge\, Windermere\, LA23 3LJ\, United Kingdom
CATEGORIES:Club Race
END:VEVENT
BEGIN:VEVENT
DTSTART;VALUE=DATE:20250927
DTEND;VALUE=DATE:20250928
DTSTAMP:20260420T075821
CREATED:20250121T100041Z
LAST-MODIFIED:20250121T100041Z
UID:1306-1758931200-1759017599@ukcircuitracing.com
SUMMARY:2025 CPA British Championship Round 3 - Stewartby
DESCRIPTION:
URL:https://ukcircuitracing.com/events/2025-cpa-british-championship-round-3-stewartby/
LOCATION:Stewartby Watersports Club\, The Clubhouse\, Green Lane\, Bedford\, MK43 9LY\, United Kingdom
CATEGORIES:CPA British Championship
END:VEVENT
BEGIN:VEVENT
DTSTART;TZID=UTC:20250914T120000
DTEND;TZID=UTC:20250914T180000
DTSTAMP:20260420T075821
CREATED:20250121T100040Z
LAST-MODIFIED:20250121T100421Z
UID:1304-1757851200-1757872800@ukcircuitracing.com
SUMMARY:Battle of Britain (North Bay Course) - Oulton Broad
DESCRIPTION:
URL:https://ukcircuitracing.com/events/battle-of-britain-north-bay-course-oulton-broad-2/
LOCATION:Lowestoft & Oulton Broad Motor Boat Racing Club\, The Clubhouse\, Oulton Broad\, NR33 9JR\, United Kingdom
CATEGORIES:Club Race
END:VEVENT
BEGIN:VEVENT
DTSTART;VALUE=DATE:20250907
DTEND;VALUE=DATE:20250908
DTSTAMP:20260420T075821
CREATED:20250121T100040Z
LAST-MODIFIED:20250121T100040Z
UID:1303-1757203200-1757289599@ukcircuitracing.com
SUMMARY:Test & Training Day - Carr Mill
DESCRIPTION:
URL:https://ukcircuitracing.com/events/test-training-day-carr-mill-12/
LOCATION:Lancashire Powerboat Racing Club\, Carr Mill Dam\, Garswood Old Road\, St Helens\, WA11 7LZ\, United Kingdom
CATEGORIES:Test Session
END:VEVENT
BEGIN:VEVENT
DTSTART;VALUE=DATE:20250906
DTEND;VALUE=DATE:20250907
DTSTAMP:20260420T075821
CREATED:20250121T100026Z
LAST-MODIFIED:20250121T100026Z
UID:1302-1757116800-1757203199@ukcircuitracing.com
SUMMARY:Club Race - Carr Mill
DESCRIPTION:
URL:https://ukcircuitracing.com/events/club-race-carr-mill-12/
LOCATION:Lancashire Powerboat Racing Club\, Carr Mill Dam\, Garswood Old Road\, St Helens\, WA11 7LZ\, United Kingdom
CATEGORIES:Club Race
END:VEVENT
BEGIN:VEVENT
DTSTART;TZID=UTC:20250825T160000
DTEND;TZID=UTC:20250825T210000
DTSTAMP:20260420T075821
CREATED:20250121T100026Z
LAST-MODIFIED:20250121T100452Z
UID:1301-1756137600-1756155600@ukcircuitracing.com
SUMMARY:Club Race (Lions Gala Day) - Oulton Broad
DESCRIPTION:
URL:https://ukcircuitracing.com/events/club-race-lions-gala-day-oulton-broad/
LOCATION:Lowestoft & Oulton Broad Motor Boat Racing Club\, The Clubhouse\, Oulton Broad\, NR33 9JR\, United Kingdom
CATEGORIES:Club Race
END:VEVENT
BEGIN:VEVENT
DTSTART;VALUE=DATE:20250816
DTEND;VALUE=DATE:20250817
DTSTAMP:20260420T075821
CREATED:20250121T100026Z
LAST-MODIFIED:20250121T100026Z
UID:1300-1755302400-1755388799@ukcircuitracing.com
SUMMARY:Test & Training Day - Carr Mill
DESCRIPTION:
URL:https://ukcircuitracing.com/events/test-training-day-carr-mill-11/
LOCATION:Lancashire Powerboat Racing Club\, Carr Mill Dam\, Garswood Old Road\, St Helens\, WA11 7LZ\, United Kingdom
CATEGORIES:Test Session
END:VEVENT
BEGIN:VEVENT
DTSTART;TZID=UTC:20250814T173000
DTEND;TZID=UTC:20250814T210000
DTSTAMP:20260420T075821
CREATED:20250121T100025Z
LAST-MODIFIED:20250121T100508Z
UID:1299-1755192600-1755205200@ukcircuitracing.com
SUMMARY:Club Race - Oulton Broad
DESCRIPTION:
URL:https://ukcircuitracing.com/events/club-race-oulton-broad-47/
LOCATION:Lowestoft & Oulton Broad Motor Boat Racing Club\, The Clubhouse\, Oulton Broad\, NR33 9JR\, United Kingdom
CATEGORIES:Club Race
END:VEVENT
BEGIN:VEVENT
DTSTART;TZID=UTC:20250807T173000
DTEND;TZID=UTC:20250807T210000
DTSTAMP:20260420T075821
CREATED:20250121T100025Z
LAST-MODIFIED:20250121T100523Z
UID:1298-1754587800-1754600400@ukcircuitracing.com
SUMMARY:Club Race - Oulton Broad
DESCRIPTION:
URL:https://ukcircuitracing.com/events/club-race-oulton-broad-46/
LOCATION:Lowestoft & Oulton Broad Motor Boat Racing Club\, The Clubhouse\, Oulton Broad\, NR33 9JR\, United Kingdom
CATEGORIES:Club Race
END:VEVENT
BEGIN:VEVENT
DTSTART;VALUE=DATE:20250803
DTEND;VALUE=DATE:20250804
DTSTAMP:20260420T075821
CREATED:20250121T100012Z
LAST-MODIFIED:20250121T100012Z
UID:1297-1754179200-1754265599@ukcircuitracing.com
SUMMARY:2025 CPA British Sprint Championship - Stewartby
DESCRIPTION:
URL:https://ukcircuitracing.com/events/2025-cpa-british-sprint-championship-stewartby-2/
LOCATION:Stewartby Watersports Club\, The Clubhouse\, Green Lane\, Bedford\, MK43 9LY\, United Kingdom
CATEGORIES:CPA British Championship
END:VEVENT
BEGIN:VEVENT
DTSTART;VALUE=DATE:20250802
DTEND;VALUE=DATE:20250803
DTSTAMP:20260420T075821
CREATED:20250121T100011Z
LAST-MODIFIED:20250121T100011Z
UID:1296-1754092800-1754179199@ukcircuitracing.com
SUMMARY:2025 CPA British Sprint Championship - Stewartby
DESCRIPTION:
URL:https://ukcircuitracing.com/events/2025-cpa-british-sprint-championship-stewartby/
LOCATION:Stewartby Watersports Club\, The Clubhouse\, Green Lane\, Bedford\, MK43 9LY\, United Kingdom
CATEGORIES:CPA British Championship
END:VEVENT
BEGIN:VEVENT
DTSTART;TZID=UTC:20250731T180000
DTEND;TZID=UTC:20250731T210000
DTSTAMP:20260420T075821
CREATED:20250121T100011Z
LAST-MODIFIED:20250121T100536Z
UID:1295-1753984800-1753995600@ukcircuitracing.com
SUMMARY:Club Race - Oulton Broad
DESCRIPTION:
URL:https://ukcircuitracing.com/events/club-race-oulton-broad-45/
LOCATION:Lowestoft & Oulton Broad Motor Boat Racing Club\, The Clubhouse\, Oulton Broad\, NR33 9JR\, United Kingdom
CATEGORIES:Club Race
END:VEVENT
BEGIN:VEVENT
DTSTART;VALUE=DATE:20250726
DTEND;VALUE=DATE:20250727
DTSTAMP:20260420T075821
CREATED:20250121T100011Z
LAST-MODIFIED:20250121T100011Z
UID:1294-1753488000-1753574399@ukcircuitracing.com
SUMMARY:Club Race - Carr Mill
DESCRIPTION:
URL:https://ukcircuitracing.com/events/club-race-carr-mill-11/
LOCATION:Lancashire Powerboat Racing Club\, Carr Mill Dam\, Garswood Old Road\, St Helens\, WA11 7LZ\, United Kingdom
CATEGORIES:Club Race
END:VEVENT
BEGIN:VEVENT
DTSTART;TZID=UTC:20250724T180000
DTEND;TZID=UTC:20250724T210000
DTSTAMP:20260420T075821
CREATED:20250121T100010Z
LAST-MODIFIED:20250121T100550Z
UID:1293-1753380000-1753390800@ukcircuitracing.com
SUMMARY:Club Race - Oulton Broad
DESCRIPTION:
URL:https://ukcircuitracing.com/events/club-race-oulton-broad-44/
LOCATION:Lowestoft & Oulton Broad Motor Boat Racing Club\, The Clubhouse\, Oulton Broad\, NR33 9JR\, United Kingdom
CATEGORIES:Club Race
END:VEVENT
BEGIN:VEVENT
DTSTART;TZID=UTC:20250720T120000
DTEND;TZID=UTC:20250720T180000
DTSTAMP:20260420T075821
CREATED:20250121T095957Z
LAST-MODIFIED:20250121T100603Z
UID:1292-1753012800-1753034400@ukcircuitracing.com
SUMMARY:UIM GT30 World & OSY400 European Championship - Oulton Broad
DESCRIPTION:
URL:https://ukcircuitracing.com/events/uim-gt30-world-osy400-european-championship-oulton-broad-2/
LOCATION:Lowestoft & Oulton Broad Motor Boat Racing Club\, The Clubhouse\, Oulton Broad\, NR33 9JR\, United Kingdom
CATEGORIES:International
END:VEVENT
BEGIN:VEVENT
DTSTART;TZID=UTC:20250719T100000
DTEND;TZID=UTC:20250719T200000
DTSTAMP:20260420T075821
CREATED:20250121T095957Z
LAST-MODIFIED:20250121T100616Z
UID:1291-1752919200-1752955200@ukcircuitracing.com
SUMMARY:UIM GT30 World & OSY400 European Championship - Oulton Broad
DESCRIPTION:
URL:https://ukcircuitracing.com/events/uim-gt30-world-osy400-european-championship-oulton-broad/
LOCATION:Lowestoft & Oulton Broad Motor Boat Racing Club\, The Clubhouse\, Oulton Broad\, NR33 9JR\, United Kingdom
CATEGORIES:International
END:VEVENT
BEGIN:VEVENT
DTSTART;TZID=UTC:20250710T180000
DTEND;TZID=UTC:20250710T210000
DTSTAMP:20260420T075821
CREATED:20250121T095956Z
LAST-MODIFIED:20250121T100628Z
UID:1290-1752170400-1752181200@ukcircuitracing.com
SUMMARY:Club Race - Oulton Broad
DESCRIPTION:
URL:https://ukcircuitracing.com/events/club-race-oulton-broad-43/
LOCATION:Lowestoft & Oulton Broad Motor Boat Racing Club\, The Clubhouse\, Oulton Broad\, NR33 9JR\, United Kingdom
CATEGORIES:Club Race
END:VEVENT
BEGIN:VEVENT
DTSTART;VALUE=DATE:20250705
DTEND;VALUE=DATE:20250706
DTSTAMP:20260420T075821
CREATED:20250121T095956Z
LAST-MODIFIED:20250121T095956Z
UID:1289-1751673600-1751759999@ukcircuitracing.com
SUMMARY:Regatta Club Race - Windermere
DESCRIPTION:
URL:https://ukcircuitracing.com/events/regatta-club-race-windermere-2/
LOCATION:Windermere Motor Boat Racing Club\, Broad Leys Lodge\, Windermere\, LA23 3LJ\, United Kingdom
CATEGORIES:Club Race
END:VEVENT
BEGIN:VEVENT
DTSTART;TZID=UTC:20250703T180000
DTEND;TZID=UTC:20250703T210000
DTSTAMP:20260420T075821
CREATED:20250121T095955Z
LAST-MODIFIED:20250121T100641Z
UID:1288-1751565600-1751576400@ukcircuitracing.com
SUMMARY:Club Race - Oulton Broad
DESCRIPTION:
URL:https://ukcircuitracing.com/events/club-race-oulton-broad-42/
LOCATION:Lowestoft & Oulton Broad Motor Boat Racing Club\, The Clubhouse\, Oulton Broad\, NR33 9JR\, United Kingdom
CATEGORIES:Club Race
END:VEVENT
BEGIN:VEVENT
DTSTART;VALUE=DATE:20250629
DTEND;VALUE=DATE:20250630
DTSTAMP:20260420T075821
CREATED:20250121T095941Z
LAST-MODIFIED:20250121T095941Z
UID:1287-1751155200-1751241599@ukcircuitracing.com
SUMMARY:Test Session - Stewartby
DESCRIPTION:
URL:https://ukcircuitracing.com/events/test-session-stewartby-27/
LOCATION:Stewartby Watersports Club\, The Clubhouse\, Green Lane\, Bedford\, MK43 9LY\, United Kingdom
CATEGORIES:Test Session
END:VEVENT
BEGIN:VEVENT
DTSTART;VALUE=DATE:20250628
DTEND;VALUE=DATE:20250629
DTSTAMP:20260420T075821
CREATED:20250121T095941Z
LAST-MODIFIED:20250121T095941Z
UID:1286-1751068800-1751155199@ukcircuitracing.com
SUMMARY:Test Session - Stewartby
DESCRIPTION:
URL:https://ukcircuitracing.com/events/test-session-stewartby-26/
LOCATION:Stewartby Watersports Club\, The Clubhouse\, Green Lane\, Bedford\, MK43 9LY\, United Kingdom
CATEGORIES:Test Session
END:VEVENT
BEGIN:VEVENT
DTSTART;TZID=UTC:20250626T180000
DTEND;TZID=UTC:20250626T210000
DTSTAMP:20260420T075821
CREATED:20250121T095941Z
LAST-MODIFIED:20250121T100657Z
UID:1285-1750960800-1750971600@ukcircuitracing.com
SUMMARY:Club Race - Oulton Broad
DESCRIPTION:
URL:https://ukcircuitracing.com/events/club-race-oulton-broad-41/
LOCATION:Lowestoft & Oulton Broad Motor Boat Racing Club\, The Clubhouse\, Oulton Broad\, NR33 9JR\, United Kingdom
CATEGORIES:Club Race
END:VEVENT
BEGIN:VEVENT
DTSTART;VALUE=DATE:20250621
DTEND;VALUE=DATE:20250622
DTSTAMP:20260420T075821
CREATED:20250121T095940Z
LAST-MODIFIED:20250121T095940Z
UID:1284-1750464000-1750550399@ukcircuitracing.com
SUMMARY:Club Race - Carr Mill
DESCRIPTION:
URL:https://ukcircuitracing.com/events/club-race-carr-mill-10/
LOCATION:Lancashire Powerboat Racing Club\, Carr Mill Dam\, Garswood Old Road\, St Helens\, WA11 7LZ\, United Kingdom
CATEGORIES:Club Race
END:VEVENT
BEGIN:VEVENT
DTSTART;TZID=UTC:20250619T180000
DTEND;TZID=UTC:20250619T210000
DTSTAMP:20260420T075821
CREATED:20250121T095940Z
LAST-MODIFIED:20250121T100709Z
UID:1283-1750356000-1750366800@ukcircuitracing.com
SUMMARY:Club Race - Oulton Broad
DESCRIPTION:
URL:https://ukcircuitracing.com/events/club-race-oulton-broad-40/
LOCATION:Lowestoft & Oulton Broad Motor Boat Racing Club\, The Clubhouse\, Oulton Broad\, NR33 9JR\, United Kingdom
CATEGORIES:Club Race
END:VEVENT
BEGIN:VEVENT
DTSTART;TZID=UTC:20250612T180000
DTEND;TZID=UTC:20250612T210000
DTSTAMP:20260420T075821
CREATED:20250121T095926Z
LAST-MODIFIED:20250121T100722Z
UID:1282-1749751200-1749762000@ukcircuitracing.com
SUMMARY:Club Race - Oulton Broad
DESCRIPTION:
URL:https://ukcircuitracing.com/events/club-race-oulton-broad-39/
LOCATION:Lowestoft & Oulton Broad Motor Boat Racing Club\, The Clubhouse\, Oulton Broad\, NR33 9JR\, United Kingdom
CATEGORIES:Club Race
END:VEVENT
BEGIN:VEVENT
DTSTART;VALUE=DATE:20250608
DTEND;VALUE=DATE:20250609
DTSTAMP:20260420T075821
CREATED:20250121T095926Z
LAST-MODIFIED:20250121T095926Z
UID:1281-1749340800-1749427199@ukcircuitracing.com
SUMMARY:Test Session - Stewartby
DESCRIPTION:
URL:https://ukcircuitracing.com/events/test-session-stewartby-25/
LOCATION:Stewartby Watersports Club\, The Clubhouse\, Green Lane\, Bedford\, MK43 9LY\, United Kingdom
CATEGORIES:Test Session
END:VEVENT
END:VCALENDAR