BEGIN:VCALENDAR
VERSION:2.0
PRODID:-//Circuit Powerboat Association - ECPv6.9.0//NONSGML v1.0//EN
CALSCALE:GREGORIAN
METHOD:PUBLISH
X-ORIGINAL-URL:https://ukcircuitracing.com
X-WR-CALDESC:Events for Circuit Powerboat Association
REFRESH-INTERVAL;VALUE=DURATION:PT1H
X-Robots-Tag:noindex
X-PUBLISHED-TTL:PT1H
BEGIN:VTIMEZONE
TZID:UTC
BEGIN:STANDARD
TZOFFSETFROM:+0000
TZOFFSETTO:+0000
TZNAME:UTC
DTSTART:20260101T000000
END:STANDARD
END:VTIMEZONE
BEGIN:VEVENT
DTSTART;VALUE=DATE:20260815
DTEND;VALUE=DATE:20260816
DTSTAMP:20260420T034614
CREATED:20260305T093151Z
LAST-MODIFIED:20260305T093151Z
UID:1696-1786752000-1786838399@ukcircuitracing.com
SUMMARY:Test & Training Day - Carr Mill
DESCRIPTION:
URL:https://ukcircuitracing.com/events/test-training-day-carr-mill-16/
LOCATION:Lancashire Powerboat Racing Club\, Carr Mill Dam\, Garswood Old Road\, St Helens\, WA11 7LZ\, United Kingdom
CATEGORIES:Test Session
END:VEVENT
BEGIN:VEVENT
DTSTART;VALUE=DATE:20260905
DTEND;VALUE=DATE:20260906
DTSTAMP:20260420T034614
CREATED:20260305T093151Z
LAST-MODIFIED:20260305T093151Z
UID:1697-1788566400-1788652799@ukcircuitracing.com
SUMMARY:Club Race - Carr Mill
DESCRIPTION:
URL:https://ukcircuitracing.com/events/club-race-carr-mill-17/
LOCATION:Lancashire Powerboat Racing Club\, Carr Mill Dam\, Garswood Old Road\, St Helens\, WA11 7LZ\, United Kingdom
CATEGORIES:Club Race
END:VEVENT
BEGIN:VEVENT
DTSTART;VALUE=DATE:20260906
DTEND;VALUE=DATE:20260907
DTSTAMP:20260420T034614
CREATED:20260305T093219Z
LAST-MODIFIED:20260305T093219Z
UID:1698-1788652800-1788739199@ukcircuitracing.com
SUMMARY:Test & Training Day - Carr Mill
DESCRIPTION:
URL:https://ukcircuitracing.com/events/test-training-day-carr-mill-17/
LOCATION:Lancashire Powerboat Racing Club\, Carr Mill Dam\, Garswood Old Road\, St Helens\, WA11 7LZ\, United Kingdom
CATEGORIES:Test Session
END:VEVENT
BEGIN:VEVENT
DTSTART;VALUE=DATE:20260926
DTEND;VALUE=DATE:20260927
DTSTAMP:20260420T034614
CREATED:20260305T093220Z
LAST-MODIFIED:20260305T093220Z
UID:1699-1790380800-1790467199@ukcircuitracing.com
SUMMARY:Club Race - Windermere
DESCRIPTION:
URL:https://ukcircuitracing.com/events/club-race-windermere-7/
LOCATION:Windermere Motor Boat Racing Club\, Broad Leys Lodge\, Windermere\, LA23 3LJ\, United Kingdom
CATEGORIES:Club Race
END:VEVENT
BEGIN:VEVENT
DTSTART;VALUE=DATE:20260926
DTEND;VALUE=DATE:20260927
DTSTAMP:20260420T034614
CREATED:20260305T093220Z
LAST-MODIFIED:20260305T093220Z
UID:1700-1790380800-1790467199@ukcircuitracing.com
SUMMARY:British Masters Championship Round 3 - Stewartby
DESCRIPTION:
URL:https://ukcircuitracing.com/events/british-masters-championship-round-3-stewartby/
LOCATION:Stewartby Watersports Club\, The Clubhouse\, Green Lane\, Bedford\, MK43 9LY\, United Kingdom
CATEGORIES:Club Race
END:VEVENT
BEGIN:VEVENT
DTSTART;VALUE=DATE:20260927
DTEND;VALUE=DATE:20260928
DTSTAMP:20260420T034614
CREATED:20260305T093220Z
LAST-MODIFIED:20260305T093220Z
UID:1701-1790467200-1790553599@ukcircuitracing.com
SUMMARY:British Masters Championship Round 3 - Stewartby
DESCRIPTION:
URL:https://ukcircuitracing.com/events/british-masters-championship-round-3-stewartby-2/
LOCATION:Stewartby Watersports Club\, The Clubhouse\, Green Lane\, Bedford\, MK43 9LY\, United Kingdom
CATEGORIES:Club Race
END:VEVENT
BEGIN:VEVENT
DTSTART;VALUE=DATE:20261010
DTEND;VALUE=DATE:20261011
DTSTAMP:20260420T034614
CREATED:20260305T093220Z
LAST-MODIFIED:20260305T093220Z
UID:1702-1791590400-1791676799@ukcircuitracing.com
SUMMARY:Club Race - Carr Mill
DESCRIPTION:
URL:https://ukcircuitracing.com/events/club-race-carr-mill-18/
LOCATION:Lancashire Powerboat Racing Club\, Carr Mill Dam\, Garswood Old Road\, St Helens\, WA11 7LZ\, United Kingdom
CATEGORIES:Club Race
END:VEVENT
BEGIN:VEVENT
DTSTART;VALUE=DATE:20261017
DTEND;VALUE=DATE:20261018
DTSTAMP:20260420T034614
CREATED:20260305T093235Z
LAST-MODIFIED:20260305T093235Z
UID:1703-1792195200-1792281599@ukcircuitracing.com
SUMMARY:British Masters Championship Round 4 - Stewartby
DESCRIPTION:
URL:https://ukcircuitracing.com/events/british-masters-championship-round-4-stewartby/
LOCATION:Stewartby Watersports Club\, The Clubhouse\, Green Lane\, Bedford\, MK43 9LY\, United Kingdom
CATEGORIES:Club Race
END:VEVENT
BEGIN:VEVENT
DTSTART;VALUE=DATE:20261018
DTEND;VALUE=DATE:20261019
DTSTAMP:20260420T034614
CREATED:20260305T093235Z
LAST-MODIFIED:20260305T093235Z
UID:1704-1792281600-1792367999@ukcircuitracing.com
SUMMARY:British Masters Championship Round 4 - Stewartby
DESCRIPTION:
URL:https://ukcircuitracing.com/events/british-masters-championship-round-4-stewartby-2/
LOCATION:Stewartby Watersports Club\, The Clubhouse\, Green Lane\, Bedford\, MK43 9LY\, United Kingdom
CATEGORIES:Club Race
END:VEVENT
BEGIN:VEVENT
DTSTART;VALUE=DATE:20261024
DTEND;VALUE=DATE:20261025
DTSTAMP:20260420T034614
CREATED:20260305T093235Z
LAST-MODIFIED:20260305T093235Z
UID:1705-1792800000-1792886399@ukcircuitracing.com
SUMMARY:Club Race - Carr Mill
DESCRIPTION:
URL:https://ukcircuitracing.com/events/club-race-carr-mill-19/
LOCATION:Lancashire Powerboat Racing Club\, Carr Mill Dam\, Garswood Old Road\, St Helens\, WA11 7LZ\, United Kingdom
CATEGORIES:Club Race
END:VEVENT
BEGIN:VEVENT
DTSTART;VALUE=DATE:20261102
DTEND;VALUE=DATE:20261103
DTSTAMP:20260420T034614
CREATED:20260305T093236Z
LAST-MODIFIED:20260305T093236Z
UID:1706-1793577600-1793663999@ukcircuitracing.com
SUMMARY:Coniston Records Week
DESCRIPTION:
URL:https://ukcircuitracing.com/events/coniston-records-week-8/
LOCATION:Coniston Water\, 12 Lake Road\, Coniston\, LA21 8AN\, United Kingdom
CATEGORIES:Records Week
END:VEVENT
BEGIN:VEVENT
DTSTART;VALUE=DATE:20261103
DTEND;VALUE=DATE:20261104
DTSTAMP:20260420T034614
CREATED:20260305T093236Z
LAST-MODIFIED:20260305T093236Z
UID:1707-1793664000-1793750399@ukcircuitracing.com
SUMMARY:Coniston Records Week
DESCRIPTION:
URL:https://ukcircuitracing.com/events/coniston-records-week-9/
LOCATION:Coniston Water\, 12 Lake Road\, Coniston\, LA21 8AN\, United Kingdom
CATEGORIES:Records Week
END:VEVENT
BEGIN:VEVENT
DTSTART;VALUE=DATE:20261104
DTEND;VALUE=DATE:20261105
DTSTAMP:20260420T034614
CREATED:20260305T093252Z
LAST-MODIFIED:20260305T093252Z
UID:1708-1793750400-1793836799@ukcircuitracing.com
SUMMARY:Coniston Records Week
DESCRIPTION:
URL:https://ukcircuitracing.com/events/coniston-records-week-10/
LOCATION:Coniston Water\, 12 Lake Road\, Coniston\, LA21 8AN\, United Kingdom
CATEGORIES:Records Week
END:VEVENT
BEGIN:VEVENT
DTSTART;VALUE=DATE:20261105
DTEND;VALUE=DATE:20261106
DTSTAMP:20260420T034614
CREATED:20260305T093252Z
LAST-MODIFIED:20260305T093252Z
UID:1709-1793836800-1793923199@ukcircuitracing.com
SUMMARY:Coniston Records Week
DESCRIPTION:
URL:https://ukcircuitracing.com/events/coniston-records-week-11/
LOCATION:Coniston Water\, 12 Lake Road\, Coniston\, LA21 8AN\, United Kingdom
CATEGORIES:Records Week
END:VEVENT
BEGIN:VEVENT
DTSTART;VALUE=DATE:20261106
DTEND;VALUE=DATE:20261107
DTSTAMP:20260420T034614
CREATED:20260305T093252Z
LAST-MODIFIED:20260305T093252Z
UID:1710-1793923200-1794009599@ukcircuitracing.com
SUMMARY:Coniston Records Week
DESCRIPTION:
URL:https://ukcircuitracing.com/events/coniston-records-week-12/
LOCATION:Coniston Water\, 12 Lake Road\, Coniston\, LA21 8AN\, United Kingdom
CATEGORIES:Records Week
END:VEVENT
END:VCALENDAR