BEGIN:VCALENDAR
VERSION:2.0
PRODID:-//Circuit Powerboat Association - ECPv6.9.0//NONSGML v1.0//EN
CALSCALE:GREGORIAN
METHOD:PUBLISH
X-WR-CALNAME:Circuit Powerboat Association
X-ORIGINAL-URL:https://ukcircuitracing.com
X-WR-CALDESC:Events for Circuit Powerboat Association
REFRESH-INTERVAL;VALUE=DURATION:PT1H
X-Robots-Tag:noindex
X-PUBLISHED-TTL:PT1H
BEGIN:VTIMEZONE
TZID:UTC
BEGIN:STANDARD
TZOFFSETFROM:+0000
TZOFFSETTO:+0000
TZNAME:UTC
DTSTART:20240101T000000
END:STANDARD
END:VTIMEZONE
BEGIN:VEVENT
DTSTART;VALUE=DATE:20240803
DTEND;VALUE=DATE:20240805
DTSTAMP:20260420T065428
CREATED:20240110T152241Z
LAST-MODIFIED:20240110T154536Z
UID:894-1722643200-1722815999@ukcircuitracing.com
SUMMARY:2024 CPA British Sprint Championship - Stewartby
DESCRIPTION:
URL:https://ukcircuitracing.com/events/2024-cpa-british-sprint-championship-stewartby-3/
LOCATION:Stewartby Watersports Club\, The Clubhouse\, Green Lane\, Bedford\, MK43 9LY\, United Kingdom
CATEGORIES:CPA British Championship
END:VEVENT
BEGIN:VEVENT
DTSTART;TZID=UTC:20240801T173000
DTEND;TZID=UTC:20240801T210000
DTSTAMP:20260420T065428
CREATED:20240110T152915Z
LAST-MODIFIED:20240110T155254Z
UID:933-1722533400-1722546000@ukcircuitracing.com
SUMMARY:Club Race - Oulton Broad
DESCRIPTION:
URL:https://ukcircuitracing.com/events/club-race-oulton-broad-31/
LOCATION:Lowestoft & Oulton Broad Motor Boat Racing Club\, The Clubhouse\, Oulton Broad\, NR33 9JR\, United Kingdom
CATEGORIES:Club Race
END:VEVENT
BEGIN:VEVENT
DTSTART;TZID=UTC:20240725T180000
DTEND;TZID=UTC:20240725T210000
DTSTAMP:20260420T065428
CREATED:20240110T152915Z
LAST-MODIFIED:20240110T155221Z
UID:932-1721930400-1721941200@ukcircuitracing.com
SUMMARY:Club Race - Oulton Broad
DESCRIPTION:
URL:https://ukcircuitracing.com/events/club-race-oulton-broad-30/
LOCATION:Lowestoft & Oulton Broad Motor Boat Racing Club\, The Clubhouse\, Oulton Broad\, NR33 9JR\, United Kingdom
CATEGORIES:Club Race
END:VEVENT
BEGIN:VEVENT
DTSTART;VALUE=DATE:20240720
DTEND;VALUE=DATE:20240721
DTSTAMP:20260420T065428
CREATED:20240110T152240Z
LAST-MODIFIED:20240110T152240Z
UID:891-1721433600-1721519999@ukcircuitracing.com
SUMMARY:Club Race - Carr Mill
DESCRIPTION:
URL:https://ukcircuitracing.com/events/club-race-carr-mill-6/
LOCATION:Lancashire Powerboat Racing Club\, Carr Mill Dam\, Garswood Old Road\, St Helens\, WA11 7LZ\, United Kingdom
CATEGORIES:Club Race
END:VEVENT
BEGIN:VEVENT
DTSTART;TZID=UTC:20240718T180000
DTEND;TZID=UTC:20240718T210000
DTSTAMP:20260420T065428
CREATED:20240110T152915Z
LAST-MODIFIED:20240110T154848Z
UID:931-1721325600-1721336400@ukcircuitracing.com
SUMMARY:Club Race - Oulton Broad
DESCRIPTION:
URL:https://ukcircuitracing.com/events/club-race-oulton-broad-29/
LOCATION:Lowestoft & Oulton Broad Motor Boat Racing Club\, The Clubhouse\, Oulton Broad\, NR33 9JR\, United Kingdom
CATEGORIES:Club Race
END:VEVENT
BEGIN:VEVENT
DTSTART;TZID=UTC:20240711T180000
DTEND;TZID=UTC:20240711T210000
DTSTAMP:20260420T065428
CREATED:20240110T152859Z
LAST-MODIFIED:20240110T154824Z
UID:925-1720720800-1720731600@ukcircuitracing.com
SUMMARY:Club Race - Oulton Broad
DESCRIPTION:
URL:https://ukcircuitracing.com/events/club-race-oulton-broad-28/
LOCATION:Lowestoft & Oulton Broad Motor Boat Racing Club\, The Clubhouse\, Oulton Broad\, NR33 9JR\, United Kingdom
CATEGORIES:Club Race
END:VEVENT
BEGIN:VEVENT
DTSTART;VALUE=DATE:20240706
DTEND;VALUE=DATE:20240707
DTSTAMP:20260420T065428
CREATED:20240110T152232Z
LAST-MODIFIED:20240110T152232Z
UID:888-1720224000-1720310399@ukcircuitracing.com
SUMMARY:Regatta Club Race - Windermere
DESCRIPTION:
URL:https://ukcircuitracing.com/events/regatta-club-race-windermere/
LOCATION:Windermere Motor Boat Racing Club\, Broad Leys Lodge\, Windermere\, LA23 3LJ\, United Kingdom
CATEGORIES:Club Race
END:VEVENT
BEGIN:VEVENT
DTSTART;TZID=UTC:20240704T180000
DTEND;TZID=UTC:20240704T210000
DTSTAMP:20260420T065428
CREATED:20240110T152859Z
LAST-MODIFIED:20240110T154805Z
UID:924-1720116000-1720126800@ukcircuitracing.com
SUMMARY:Club Race - Oulton Broad
DESCRIPTION:
URL:https://ukcircuitracing.com/events/club-race-oulton-broad-27/
LOCATION:Lowestoft & Oulton Broad Motor Boat Racing Club\, The Clubhouse\, Oulton Broad\, NR33 9JR\, United Kingdom
CATEGORIES:Club Race
END:VEVENT
BEGIN:VEVENT
DTSTART;VALUE=DATE:20240629
DTEND;VALUE=DATE:20240701
DTSTAMP:20260420T065428
CREATED:20240110T152217Z
LAST-MODIFIED:20240110T154446Z
UID:880-1719619200-1719791999@ukcircuitracing.com
SUMMARY:2024 CPA British Championship Round 2 - Stewartby
DESCRIPTION:
URL:https://ukcircuitracing.com/events/2024-cpa-british-championship-round-2-stewartby-2/
LOCATION:Stewartby Watersports Club\, The Clubhouse\, Green Lane\, Bedford\, MK43 9LY\, United Kingdom
CATEGORIES:CPA British Championship
END:VEVENT
BEGIN:VEVENT
DTSTART;TZID=UTC:20240627T180000
DTEND;TZID=UTC:20240627T210000
DTSTAMP:20260420T065428
CREATED:20240110T152858Z
LAST-MODIFIED:20240110T154630Z
UID:923-1719511200-1719522000@ukcircuitracing.com
SUMMARY:Club Race - Oulton Broad
DESCRIPTION:
URL:https://ukcircuitracing.com/events/club-race-oulton-broad-26/
LOCATION:Lowestoft & Oulton Broad Motor Boat Racing Club\, The Clubhouse\, Oulton Broad\, NR33 9JR\, United Kingdom
CATEGORIES:Club Race
END:VEVENT
BEGIN:VEVENT
DTSTART;VALUE=DATE:20240622
DTEND;VALUE=DATE:20240623
DTSTAMP:20260420T065428
CREATED:20240110T152217Z
LAST-MODIFIED:20240110T152217Z
UID:878-1719014400-1719100799@ukcircuitracing.com
SUMMARY:Club Race - Carr Mill
DESCRIPTION:
URL:https://ukcircuitracing.com/events/club-race-carr-mill-5/
LOCATION:Lancashire Powerboat Racing Club\, Carr Mill Dam\, Garswood Old Road\, St Helens\, WA11 7LZ\, United Kingdom
CATEGORIES:Club Race
END:VEVENT
BEGIN:VEVENT
DTSTART;TZID=UTC:20240620T180000
DTEND;TZID=UTC:20240620T210000
DTSTAMP:20260420T065428
CREATED:20240110T152858Z
LAST-MODIFIED:20240110T154420Z
UID:922-1718906400-1718917200@ukcircuitracing.com
SUMMARY:Club Race - Oulton Broad
DESCRIPTION:
URL:https://ukcircuitracing.com/events/club-race-oulton-broad-25/
LOCATION:Lowestoft & Oulton Broad Motor Boat Racing Club\, The Clubhouse\, Oulton Broad\, NR33 9JR\, United Kingdom
CATEGORIES:Club Race
END:VEVENT
BEGIN:VEVENT
DTSTART;VALUE=DATE:20240615
DTEND;VALUE=DATE:20240616
DTSTAMP:20260420T065428
CREATED:20240110T152216Z
LAST-MODIFIED:20240110T152217Z
UID:876-1718409600-1718495999@ukcircuitracing.com
SUMMARY:Rear Commodores Club Race - Windermere
DESCRIPTION:
URL:https://ukcircuitracing.com/events/rear-commodores-club-race-windermere-2/
LOCATION:Windermere Motor Boat Racing Club\, Broad Leys Lodge\, Windermere\, LA23 3LJ\, United Kingdom
CATEGORIES:Club Race
END:VEVENT
BEGIN:VEVENT
DTSTART;TZID=UTC:20240613T180000
DTEND;TZID=UTC:20240613T210000
DTSTAMP:20260420T065428
CREATED:20240110T152858Z
LAST-MODIFIED:20240110T154119Z
UID:921-1718301600-1718312400@ukcircuitracing.com
SUMMARY:Club Race - Oulton Broad
DESCRIPTION:
URL:https://ukcircuitracing.com/events/club-race-oulton-broad-24/
LOCATION:Lowestoft & Oulton Broad Motor Boat Racing Club\, The Clubhouse\, Oulton Broad\, NR33 9JR\, United Kingdom
CATEGORIES:Club Race
END:VEVENT
BEGIN:VEVENT
DTSTART;VALUE=DATE:20240609
DTEND;VALUE=DATE:20240610
DTSTAMP:20260420T065428
CREATED:20240110T152150Z
LAST-MODIFIED:20240110T152150Z
UID:874-1717891200-1717977599@ukcircuitracing.com
SUMMARY:Test Session - Stewartby
DESCRIPTION:
URL:https://ukcircuitracing.com/events/test-session-stewartby-15/
LOCATION:Stewartby Watersports Club\, The Clubhouse\, Green Lane\, Bedford\, MK43 9LY\, United Kingdom
CATEGORIES:Test Session
END:VEVENT
BEGIN:VEVENT
DTSTART;VALUE=DATE:20240608
DTEND;VALUE=DATE:20240609
DTSTAMP:20260420T065428
CREATED:20240110T152150Z
LAST-MODIFIED:20240110T152150Z
UID:873-1717804800-1717891199@ukcircuitracing.com
SUMMARY:Test Session - Stewartby
DESCRIPTION:
URL:https://ukcircuitracing.com/events/test-session-stewartby-14/
LOCATION:Stewartby Watersports Club\, The Clubhouse\, Green Lane\, Bedford\, MK43 9LY\, United Kingdom
CATEGORIES:Test Session
END:VEVENT
BEGIN:VEVENT
DTSTART;TZID=UTC:20240606T180000
DTEND;TZID=UTC:20240606T210000
DTSTAMP:20260420T065428
CREATED:20240110T152857Z
LAST-MODIFIED:20240110T154004Z
UID:920-1717696800-1717707600@ukcircuitracing.com
SUMMARY:Club Race - Oulton Broad
DESCRIPTION:
URL:https://ukcircuitracing.com/events/club-race-oulton-broad-23/
LOCATION:Lowestoft & Oulton Broad Motor Boat Racing Club\, The Clubhouse\, Oulton Broad\, NR33 9JR\, United Kingdom
CATEGORIES:Club Race
END:VEVENT
BEGIN:VEVENT
DTSTART;TZID=UTC:20240530T180000
DTEND;TZID=UTC:20240530T210000
DTSTAMP:20260420T065428
CREATED:20240110T152857Z
LAST-MODIFIED:20240110T153948Z
UID:919-1717092000-1717102800@ukcircuitracing.com
SUMMARY:Club Race - Oulton Broad
DESCRIPTION:
URL:https://ukcircuitracing.com/events/club-race-oulton-broad-22/
LOCATION:Lowestoft & Oulton Broad Motor Boat Racing Club\, The Clubhouse\, Oulton Broad\, NR33 9JR\, United Kingdom
CATEGORIES:Club Race
END:VEVENT
BEGIN:VEVENT
DTSTART;TZID=UTC:20240526T120000
DTEND;TZID=UTC:20240527T180000
DTSTAMP:20260420T065428
CREATED:20240110T152857Z
LAST-MODIFIED:20240110T153930Z
UID:917-1716724800-1716832800@ukcircuitracing.com
SUMMARY:2024 CPA British Championship Round 1 - Oulton Broad
DESCRIPTION:
URL:https://ukcircuitracing.com/events/2024-cpa-british-championship-round-1-oulton-broad-6/
LOCATION:Lowestoft & Oulton Broad Motor Boat Racing Club\, The Clubhouse\, Oulton Broad\, NR33 9JR\, United Kingdom
CATEGORIES:CPA British Championship
END:VEVENT
BEGIN:VEVENT
DTSTART;TZID=UTC:20240523T180000
DTEND;TZID=UTC:20240523T210000
DTSTAMP:20260420T065428
CREATED:20240110T152857Z
LAST-MODIFIED:20240110T153908Z
UID:916-1716487200-1716498000@ukcircuitracing.com
SUMMARY:Club Race - Oulton Broad
DESCRIPTION:
URL:https://ukcircuitracing.com/events/club-race-oulton-broad-21/
LOCATION:Lowestoft & Oulton Broad Motor Boat Racing Club\, The Clubhouse\, Oulton Broad\, NR33 9JR\, United Kingdom
CATEGORIES:Club Race
END:VEVENT
BEGIN:VEVENT
DTSTART;VALUE=DATE:20240519
DTEND;VALUE=DATE:20240520
DTSTAMP:20260420T065428
CREATED:20240110T152141Z
LAST-MODIFIED:20240110T152141Z
UID:867-1716076800-1716163199@ukcircuitracing.com
SUMMARY:Test Session - Stewartby
DESCRIPTION:
URL:https://ukcircuitracing.com/events/test-session-stewartby-13/
LOCATION:Stewartby Watersports Club\, The Clubhouse\, Green Lane\, Bedford\, MK43 9LY\, United Kingdom
CATEGORIES:Test Session
END:VEVENT
BEGIN:VEVENT
DTSTART;VALUE=DATE:20240518
DTEND;VALUE=DATE:20240519
DTSTAMP:20260420T065428
CREATED:20240110T152141Z
LAST-MODIFIED:20240110T152141Z
UID:866-1715990400-1716076799@ukcircuitracing.com
SUMMARY:Test Session - Stewartby
DESCRIPTION:
URL:https://ukcircuitracing.com/events/test-session-stewartby-12/
LOCATION:Stewartby Watersports Club\, The Clubhouse\, Green Lane\, Bedford\, MK43 9LY\, United Kingdom
CATEGORIES:Test Session
END:VEVENT
BEGIN:VEVENT
DTSTART;TZID=UTC:20240516T180000
DTEND;TZID=UTC:20240516T210000
DTSTAMP:20260420T065428
CREATED:20240110T153712Z
LAST-MODIFIED:20240110T153712Z
UID:951-1715882400-1715893200@ukcircuitracing.com
SUMMARY:Club Race - Oulton Broad
DESCRIPTION:
URL:https://ukcircuitracing.com/events/club-race-oulton-broad-34/
LOCATION:Lowestoft & Oulton Broad Motor Boat Racing Club\, The Clubhouse\, Oulton Broad\, NR33 9JR\, United Kingdom
CATEGORIES:Club Race
END:VEVENT
BEGIN:VEVENT
DTSTART;VALUE=DATE:20240511
DTEND;VALUE=DATE:20240512
DTSTAMP:20260420T065428
CREATED:20240110T152126Z
LAST-MODIFIED:20240110T152126Z
UID:864-1715385600-1715471999@ukcircuitracing.com
SUMMARY:Vice Commodores Club Race - Windermere
DESCRIPTION:
URL:https://ukcircuitracing.com/events/vice-commodores-club-race-windermere/
LOCATION:Windermere Motor Boat Racing Club\, Broad Leys Lodge\, Windermere\, LA23 3LJ\, United Kingdom
CATEGORIES:Club Race
END:VEVENT
BEGIN:VEVENT
DTSTART;TZID=UTC:20240505T120000
DTEND;TZID=UTC:20240506T180000
DTSTAMP:20260420T065428
CREATED:20240110T153754Z
LAST-MODIFIED:20240110T153754Z
UID:953-1714910400-1715018400@ukcircuitracing.com
SUMMARY:Club Race - Oulton Broad
DESCRIPTION:
URL:https://ukcircuitracing.com/events/club-race-oulton-broad-35/
LOCATION:Lowestoft & Oulton Broad Motor Boat Racing Club\, The Clubhouse\, Oulton Broad\, NR33 9JR\, United Kingdom
CATEGORIES:Club Race
END:VEVENT
BEGIN:VEVENT
DTSTART;VALUE=DATE:20240505
DTEND;VALUE=DATE:20240506
DTSTAMP:20260420T065428
CREATED:20240110T152126Z
LAST-MODIFIED:20240110T152126Z
UID:861-1714867200-1714953599@ukcircuitracing.com
SUMMARY:Test & Training Day - Carr Mill
DESCRIPTION:
URL:https://ukcircuitracing.com/events/test-training-day-carr-mill-6/
LOCATION:Lancashire Powerboat Racing Club\, Carr Mill Dam\, Garswood Old Road\, St Helens\, WA11 7LZ\, United Kingdom
CATEGORIES:Test Session
END:VEVENT
BEGIN:VEVENT
DTSTART;VALUE=DATE:20240504
DTEND;VALUE=DATE:20240505
DTSTAMP:20260420T065428
CREATED:20240110T152109Z
LAST-MODIFIED:20240110T152109Z
UID:860-1714780800-1714867199@ukcircuitracing.com
SUMMARY:Club Race - Carr Mill
DESCRIPTION:
URL:https://ukcircuitracing.com/events/club-race-carr-mill-4/
LOCATION:Lancashire Powerboat Racing Club\, Carr Mill Dam\, Garswood Old Road\, St Helens\, WA11 7LZ\, United Kingdom
CATEGORIES:Club Race
END:VEVENT
BEGIN:VEVENT
DTSTART;VALUE=DATE:20240421
DTEND;VALUE=DATE:20240422
DTSTAMP:20260420T065428
CREATED:20240110T152109Z
LAST-MODIFIED:20240110T152109Z
UID:859-1713657600-1713743999@ukcircuitracing.com
SUMMARY:Test Session - Stewartby
DESCRIPTION:
URL:https://ukcircuitracing.com/events/test-session-stewartby-11/
LOCATION:Stewartby Watersports Club\, The Clubhouse\, Green Lane\, Bedford\, MK43 9LY\, United Kingdom
CATEGORIES:Test Session
END:VEVENT
BEGIN:VEVENT
DTSTART;VALUE=DATE:20240420
DTEND;VALUE=DATE:20240421
DTSTAMP:20260420T065428
CREATED:20240110T152109Z
LAST-MODIFIED:20240110T152109Z
UID:857-1713571200-1713657599@ukcircuitracing.com
SUMMARY:Sustainable Club Race - Windermere
DESCRIPTION:
URL:https://ukcircuitracing.com/events/sustainable-club-race-windermere-3/
LOCATION:Windermere Motor Boat Racing Club\, Broad Leys Lodge\, Windermere\, LA23 3LJ\, United Kingdom
CATEGORIES:Club Race
END:VEVENT
BEGIN:VEVENT
DTSTART;VALUE=DATE:20240420
DTEND;VALUE=DATE:20240421
DTSTAMP:20260420T065428
CREATED:20240110T152109Z
LAST-MODIFIED:20240110T152109Z
UID:858-1713571200-1713657599@ukcircuitracing.com
SUMMARY:Test Session - Stewartby
DESCRIPTION:
URL:https://ukcircuitracing.com/events/test-session-stewartby-4/
LOCATION:Stewartby Watersports Club\, The Clubhouse\, Green Lane\, Bedford\, MK43 9LY\, United Kingdom
CATEGORIES:Test Session
END:VEVENT
END:VCALENDAR