BEGIN:VCALENDAR
VERSION:2.0
PRODID:-//Circuit Powerboat Association - ECPv6.9.0//NONSGML v1.0//EN
CALSCALE:GREGORIAN
METHOD:PUBLISH
X-WR-CALNAME:Circuit Powerboat Association
X-ORIGINAL-URL:https://ukcircuitracing.com
X-WR-CALDESC:Events for Circuit Powerboat Association
REFRESH-INTERVAL;VALUE=DURATION:PT1H
X-Robots-Tag:noindex
X-PUBLISHED-TTL:PT1H
BEGIN:VTIMEZONE
TZID:UTC
BEGIN:STANDARD
TZOFFSETFROM:+0000
TZOFFSETTO:+0000
TZNAME:UTC
DTSTART:20250101T000000
END:STANDARD
END:VTIMEZONE
BEGIN:VEVENT
DTSTART;VALUE=DATE:20251103
DTEND;VALUE=DATE:20251104
DTSTAMP:20260419T231943
CREATED:20250121T100056Z
LAST-MODIFIED:20250121T100056Z
UID:1311-1762128000-1762214399@ukcircuitracing.com
SUMMARY:Coniston Records Week
DESCRIPTION:
URL:https://ukcircuitracing.com/events/coniston-records-week-3/
LOCATION:Coniston Water\, 12 Lake Road\, Coniston\, LA21 8AN\, United Kingdom
CATEGORIES:Records Week
END:VEVENT
BEGIN:VEVENT
DTSTART;VALUE=DATE:20251104
DTEND;VALUE=DATE:20251105
DTSTAMP:20260419T231943
CREATED:20250121T100056Z
LAST-MODIFIED:20250121T100056Z
UID:1312-1762214400-1762300799@ukcircuitracing.com
SUMMARY:Coniston Records Week
DESCRIPTION:
URL:https://ukcircuitracing.com/events/coniston-records-week-4/
LOCATION:Coniston Water\, 12 Lake Road\, Coniston\, LA21 8AN\, United Kingdom
CATEGORIES:Records Week
END:VEVENT
BEGIN:VEVENT
DTSTART;VALUE=DATE:20251105
DTEND;VALUE=DATE:20251106
DTSTAMP:20260419T231943
CREATED:20250121T100110Z
LAST-MODIFIED:20250121T100110Z
UID:1313-1762300800-1762387199@ukcircuitracing.com
SUMMARY:Coniston Records Week
DESCRIPTION:
URL:https://ukcircuitracing.com/events/coniston-records-week-5/
LOCATION:Coniston Water\, 12 Lake Road\, Coniston\, LA21 8AN\, United Kingdom
CATEGORIES:Records Week
END:VEVENT
BEGIN:VEVENT
DTSTART;VALUE=DATE:20251106
DTEND;VALUE=DATE:20251107
DTSTAMP:20260419T231943
CREATED:20250121T100110Z
LAST-MODIFIED:20250121T100110Z
UID:1314-1762387200-1762473599@ukcircuitracing.com
SUMMARY:Coniston Records Week
DESCRIPTION:
URL:https://ukcircuitracing.com/events/coniston-records-week-6/
LOCATION:Coniston Water\, 12 Lake Road\, Coniston\, LA21 8AN\, United Kingdom
CATEGORIES:Records Week
END:VEVENT
BEGIN:VEVENT
DTSTART;VALUE=DATE:20251107
DTEND;VALUE=DATE:20251108
DTSTAMP:20260419T231943
CREATED:20250121T100111Z
LAST-MODIFIED:20250121T100111Z
UID:1315-1762473600-1762559999@ukcircuitracing.com
SUMMARY:Coniston Records Week
DESCRIPTION:
URL:https://ukcircuitracing.com/events/coniston-records-week-7/
LOCATION:Coniston Water\, 12 Lake Road\, Coniston\, LA21 8AN\, United Kingdom
CATEGORIES:Records Week
END:VEVENT
END:VCALENDAR