BEGIN:VCALENDAR
VERSION:2.0
PRODID:-//Circuit Powerboat Association - ECPv6.9.0//NONSGML v1.0//EN
CALSCALE:GREGORIAN
METHOD:PUBLISH
X-ORIGINAL-URL:https://ukcircuitracing.com
X-WR-CALDESC:Events for Circuit Powerboat Association
REFRESH-INTERVAL;VALUE=DURATION:PT1H
X-Robots-Tag:noindex
X-PUBLISHED-TTL:PT1H
BEGIN:VTIMEZONE
TZID:UTC
BEGIN:STANDARD
TZOFFSETFROM:+0000
TZOFFSETTO:+0000
TZNAME:UTC
DTSTART:20260101T000000
END:STANDARD
END:VTIMEZONE
BEGIN:VEVENT
DTSTART;VALUE=DATE:20260307
DTEND;VALUE=DATE:20260308
DTSTAMP:20260419T172523
CREATED:20260305T093102Z
LAST-MODIFIED:20260305T093102Z
UID:1674-1772841600-1772927999@ukcircuitracing.com
SUMMARY:Dunk Tests - Midlands
DESCRIPTION:
URL:https://ukcircuitracing.com/events/dunk-tests-midlands-2/
LOCATION:Penkridge Leisure Centre\, Cannock Road\, Penkridge\, ST19 5RX\, United Kingdom
CATEGORIES:Dunk Tests
END:VEVENT
BEGIN:VEVENT
DTSTART;VALUE=DATE:20260307
DTEND;VALUE=DATE:20260308
DTSTAMP:20260419T172523
CREATED:20260305T093102Z
LAST-MODIFIED:20260305T093102Z
UID:1675-1772841600-1772927999@ukcircuitracing.com
SUMMARY:Pre Season Scrutineering - Lowestoft
DESCRIPTION:
URL:https://ukcircuitracing.com/events/pre-season-scrutineering-lowestoft-3/
LOCATION:North Star Renewables (Boston Putford)\, 28A Commercial Road\, Lowestoft\, NR32 2TD\, United Kingdom
CATEGORIES:Scrutineering
END:VEVENT
BEGIN:VEVENT
DTSTART;VALUE=DATE:20260314
DTEND;VALUE=DATE:20260315
DTSTAMP:20260419T172523
CREATED:20260305T093102Z
LAST-MODIFIED:20260305T093102Z
UID:1676-1773446400-1773532799@ukcircuitracing.com
SUMMARY:Dunk Tests - Great Yarmouth
DESCRIPTION:
URL:https://ukcircuitracing.com/events/dunk-tests-great-yarmouth-2/
LOCATION:Phoenix Leisure Centre\, Widgeon Close\, Great Yarmouth\, NR31 8JU\, United Kingdom
CATEGORIES:Dunk Tests
END:VEVENT
BEGIN:VEVENT
DTSTART;VALUE=DATE:20260314
DTEND;VALUE=DATE:20260315
DTSTAMP:20260419T172523
CREATED:20260305T093103Z
LAST-MODIFIED:20260305T093103Z
UID:1677-1773446400-1773532799@ukcircuitracing.com
SUMMARY:Pre Season Scrutineering - Stewartby
DESCRIPTION:
URL:https://ukcircuitracing.com/events/pre-season-scrutineering-stewartby/
LOCATION:Stewartby Watersports Club\, The Clubhouse\, Green Lane\, Bedford\, MK43 9LY\, United Kingdom
CATEGORIES:Scrutineering
END:VEVENT
BEGIN:VEVENT
DTSTART;VALUE=DATE:20260315
DTEND;VALUE=DATE:20260316
DTSTAMP:20260419T172523
CREATED:20260305T093104Z
LAST-MODIFIED:20260305T093104Z
UID:1678-1773532800-1773619199@ukcircuitracing.com
SUMMARY:Pre Season Scrutineering - Stewartby
DESCRIPTION:
URL:https://ukcircuitracing.com/events/pre-season-scrutineering-stewartby-2/
LOCATION:Stewartby Watersports Club\, The Clubhouse\, Green Lane\, Bedford\, MK43 9LY\, United Kingdom
CATEGORIES:Scrutineering
END:VEVENT
BEGIN:VEVENT
DTSTART;VALUE=DATE:20260321
DTEND;VALUE=DATE:20260322
DTSTAMP:20260419T172523
CREATED:20260305T093104Z
LAST-MODIFIED:20260305T093104Z
UID:1679-1774051200-1774137599@ukcircuitracing.com
SUMMARY:Test & Training Day - Carr Mill
DESCRIPTION:
URL:https://ukcircuitracing.com/events/test-training-day-carr-mill-13/
LOCATION:Lancashire Powerboat Racing Club\, Carr Mill Dam\, Garswood Old Road\, St Helens\, WA11 7LZ\, United Kingdom
CATEGORIES:Test Session
END:VEVENT
BEGIN:VEVENT
DTSTART;VALUE=DATE:20260322
DTEND;VALUE=DATE:20260323
DTSTAMP:20260419T172523
CREATED:20260305T093104Z
LAST-MODIFIED:20260305T093104Z
UID:1680-1774137600-1774223999@ukcircuitracing.com
SUMMARY:Pre Season Scrutineering - Carr Mill
DESCRIPTION:
URL:https://ukcircuitracing.com/events/pre-season-scrutineering-carr-mill/
LOCATION:Lancashire Powerboat Racing Club\, Carr Mill Dam\, Garswood Old Road\, St Helens\, WA11 7LZ\, United Kingdom
CATEGORIES:Scrutineering
END:VEVENT
BEGIN:VEVENT
DTSTART;VALUE=DATE:20260328
DTEND;VALUE=DATE:20260329
DTSTAMP:20260419T172523
CREATED:20260305T093105Z
LAST-MODIFIED:20260305T093105Z
UID:1681-1774656000-1774742399@ukcircuitracing.com
SUMMARY:Club Race - Carr Mill
DESCRIPTION:
URL:https://ukcircuitracing.com/events/club-race-carr-mill-14/
LOCATION:Lancashire Powerboat Racing Club\, Carr Mill Dam\, Garswood Old Road\, St Helens\, WA11 7LZ\, United Kingdom
CATEGORIES:Club Race
END:VEVENT
END:VCALENDAR